BEGIN:VCALENDAR
VERSION:2.0
PRODID:-//wp-events-plugin.com//10.0.1//EN
BEGIN:VEVENT
UID:157@oldcaterhamiansgolfingsociety.com
DTSTART;VALUE=DATE:20230418
DTEND;VALUE=DATE:20230419
DTSTAMP:20230403T075103Z
URL:https://www.oldcaterhamiansgolfingsociety.com/events/spring-meeting-20
 23/
SUMMARY:Spring Meeting 2023
DESCRIPTION:\n\nRye Golf Club: www.ryegolfclub.co.uk\nMeeting Manager: Char
 lie Waud\nEmail: charles.waud@waudwines.com\nMobile: 07984 880 698\n\nRun
 ning order -\n\nBacon Rolls\n18 holes AM Foursomes\n3 course lunch\n18 hol
 es PM Singles\n\nPrice to be confirmed\, but outline prices are:\n\nCost f
 or OCGS Member £145 per head.\nUnder 30 rate is £115 per head.\n\nPlease
  fill in the form below if you would like to play in the 2023 Spring Meeti
 ng.\n\nONLY 8 PLACES REMAINING\n\n[fc id='39'][/fc]
CATEGORIES:Meeting
LOCATION:Rye Golf Club\, Camber\, Rye\, East Sussex\, TN31 7QS\, United Kin
 gdom
GEO:50.9424664;0.7717063999999709
X-APPLE-STRUCTURED-LOCATION;VALUE=URI;X-ADDRESS=Camber\, Rye\, East Sussex\
 , TN31 7QS\, United Kingdom;X-APPLE-RADIUS=100;X-TITLE=Rye Golf Club:geo:5
 0.9424664,0.7717063999999709
END:VEVENT
END:VCALENDAR